BEGIN:VCALENDAR
VERSION:2.0
PRODID:-//Eventin//Event Calendar//EN
CALSCALE:GREGORIAN
METHOD:PUBLISH
BEGIN:VEVENT
UID:24fba56b45a033cf85fcc46b4b35401a@ahfoz.org
SUMMARY:Adjudication and Customer Care Training Workshop
DESCRIPTION:
LOCATION:Harare
DTSTAMP:20260424T140149Z
DTSTART:20260820T060000Z
DTEND:20260821T150000Z
END:VEVENT
END:VCALENDAR
