BEGIN:VCALENDAR
VERSION:2.0
PRODID:-//Eventin//Event Calendar//EN
CALSCALE:GREGORIAN
METHOD:PUBLISH
BEGIN:VEVENT
UID:00c5cc18d4a93ab0bc29de6ee30295af@ahfoz.org
SUMMARY:AHFoZ Annual All Stakeholders Conference on Health
DESCRIPTION:
LOCATION:Johannesburg\, South Africa
DTSTAMP:20260424T140527Z
DTSTART:20260902T083000Z
DTEND:20260902T150000Z
END:VEVENT
END:VCALENDAR
