BEGIN:VCALENDAR
VERSION:2.0
PRODID:-//Eventin//Event Calendar//EN
CALSCALE:GREGORIAN
METHOD:PUBLISH
BEGIN:VEVENT
UID:1e720c096fde7f8800289c0a982d9b10@ahfoz.org
SUMMARY:AHFoZ Healthcare Innovation Workshop
DESCRIPTION:
LOCATION:Harare
DTSTAMP:20260424T135906Z
DTSTART:20260902T060000Z
DTEND:20260902T150000Z
END:VEVENT
END:VCALENDAR
