BEGIN:VCALENDAR
VERSION:2.0
PRODID:-//Eventin//Event Calendar//EN
CALSCALE:GREGORIAN
METHOD:PUBLISH
BEGIN:VEVENT
UID:f2952172726f02305cca3610f41b7bf4@ahfoz.org
SUMMARY:AHFoZ Recognition Awards
DESCRIPTION:
LOCATION:Victoria Falls
DTSTAMP:20260424T140054Z
DTSTART:20260904T060000Z
DTEND:20260904T150000Z
END:VEVENT
END:VCALENDAR
